BEGIN:VCALENDAR
VERSION:2.0
PRODID:-//hacksw/handcal//NONSGML v1.0//EN
BEGIN:VEVENT
SUMMARY:Mardi PPG Chateau Gaillard
UID:ce593230-294f-4e42-8d3b-c2e1ad85fb2a
DTSTART:20260331T164500Z
DTEND:20260331T180000Z
LOCATION:Localisation   
CATEGORIES:Sportif
STATUS:
DESCRIPTION:<p>Rendez-vous a 18h45 a la salle des fetes de Chateau
 Gaillard pour un debut de seance a 19h.</p>
URL;VALUE=URI:https://www.capbugey.com/evenements/2026/03/31/mardi-ppg-chateau-gaillard-2434990
END:VEVENT
END:VCALENDAR
