BEGIN:VCALENDAR
VERSION:2.0
PRODID:-//hacksw/handcal//NONSGML v1.0//EN
BEGIN:VEVENT
SUMMARY:Mardi PPG Chateau Gaillard
UID:33da2716-a439-4bf7-afc0-3290fe223034
DTSTART:20260414T164500Z
DTEND:20260414T180000Z
LOCATION:Localisation   
CATEGORIES:Sportif
STATUS:
DESCRIPTION:<p>Rendez-vous a 18h45 a la salle des fetes de Chateau
 Gaillard pour un debut de seance a 19h </p>
URL;VALUE=URI:https://www.capbugey.com/evenements/2026/04/14/mardi-ppg-chateau-gaillard-2440089
END:VEVENT
END:VCALENDAR
